BEGIN:VCALENDAR
VERSION:2.0
PRODID:-//https://annetnikamp.nl///NONSGML kigkonsult.se iCalcreator 2.10.15//
METHOD:PUBLISH
BEGIN:VEVENT
UID:20260421T133002CEST-6811fWVXUJ@https://annetnikamp.nl/
DTSTAMP:20260421T113002Z
DESCRIPTION: https://annetnikamp.nl/index.php/agenda/evenement/793-raalte
DTSTART:20240829T220000Z
DTEND:20240829T220100Z
LOCATION:n.v.t. ()
SUMMARY:Raalte
URL:https://annetnikamp.nl/index.php/agenda/evenement/793-raalte
END:VEVENT
END:VCALENDAR
