BEGIN:VCALENDAR
VERSION:2.0
PRODID:-//https://annetnikamp.nl///NONSGML kigkonsult.se iCalcreator 2.10.15//
METHOD:PUBLISH
BEGIN:VEVENT
UID:20260421T213645CEST-1435PzwZ3b@https://annetnikamp.nl/
DTSTAMP:20260421T193645Z
DESCRIPTION: https://annetnikamp.nl/index.php/agenda/evenement/343-duiven
DTSTART:20220912T220000Z
DTEND:20220912T220100Z
LOCATION:n.v.t. ()
SUMMARY:Duiven
URL:https://annetnikamp.nl/index.php/agenda/evenement/343-duiven
END:VEVENT
END:VCALENDAR
