BEGIN:VCALENDAR
VERSION:2.0
PRODID:-//https://annetnikamp.nl///NONSGML kigkonsult.se iCalcreator 2.10.15//
METHOD:PUBLISH
BEGIN:VEVENT
UID:20260422T021324CEST-2469j8gF2u@https://annetnikamp.nl/
DTSTAMP:20260422T001324Z
DESCRIPTION:Programma van 2x 45 minuten. Themamiddag 'Duitsland' https://an
 netnikamp.nl/index.php/agenda/evenement/16-holten-besloten-optreden
DTSTART:20200303T133000Z
DTEND:20200303T150000Z
LOCATION:n.v.t. ()
SUMMARY:Holten\, besloten optreden
URL:https://annetnikamp.nl/index.php/agenda/evenement/16-holten-besloten-op
 treden
END:VEVENT
END:VCALENDAR
